BEGIN:VCALENDAR
VERSION:2.0
PRODID:-//Boots of Faith - ECPv6.15.20//NONSGML v1.0//EN
CALSCALE:GREGORIAN
METHOD:PUBLISH
X-WR-CALNAME:Boots of Faith
X-ORIGINAL-URL:https://bootsoffaith.org
X-WR-CALDESC:Events for Boots of Faith
REFRESH-INTERVAL;VALUE=DURATION:PT1H
X-Robots-Tag:noindex
X-PUBLISHED-TTL:PT1H
BEGIN:VTIMEZONE
TZID:UTC
BEGIN:STANDARD
TZOFFSETFROM:+0000
TZOFFSETTO:+0000
TZNAME:UTC
DTSTART:20240101T000000
END:STANDARD
END:VTIMEZONE
BEGIN:VEVENT
DTSTART;TZID=UTC:20250228T170000
DTEND;TZID=UTC:20250228T170000
DTSTAMP:20260423T190034
CREATED:20260117T030211Z
LAST-MODIFIED:20260117T182254Z
UID:2655-1740762000-1740762000@bootsoffaith.org
SUMMARY:The Carson Muir Award - Spain Park Swim & Dive
DESCRIPTION:So proud of Brice Thompson from Spain Park Swim & Dive.  He was awarded the Carson Muir Award for his contagious spirit & leadership in and out of the pool.\n  \n   
URL:https://bootsoffaith.org/event/carson-muir-award/
LOCATION:Spain Park High School
CATEGORIES:Awards
ATTACH;FMTTYPE=image/webp:https://bootsoffaith.org/wp-content/uploads/2026/01/Brice-Thompson-e1768618883970.webp
END:VEVENT
END:VCALENDAR