BEGIN:VCALENDAR
VERSION:2.0
PRODID:-//Boots of Faith - ECPv6.15.20//NONSGML v1.0//EN
CALSCALE:GREGORIAN
METHOD:PUBLISH
X-ORIGINAL-URL:https://bootsoffaith.org
X-WR-CALDESC:Events for Boots of Faith
REFRESH-INTERVAL;VALUE=DURATION:PT1H
X-Robots-Tag:noindex
X-PUBLISHED-TTL:PT1H
BEGIN:VTIMEZONE
TZID:UTC
BEGIN:STANDARD
TZOFFSETFROM:+0000
TZOFFSETTO:+0000
TZNAME:UTC
DTSTART:20230101T000000
END:STANDARD
END:VTIMEZONE
BEGIN:VEVENT
DTSTART;TZID=UTC:20250626T140000
DTEND;TZID=UTC:20250626T140000
DTSTAMP:20260423T203844
CREATED:20260117T151032Z
LAST-MODIFIED:20260117T153741Z
UID:2705-1750946400-1750946400@bootsoffaith.org
SUMMARY:Aldridge Gardens Paver
DESCRIPTION:Grateful to be able to place a paver in the Entrance Plaza of Aldridge Gardens.\n 
URL:https://bootsoffaith.org/event/aldridge-gardens-paver/
LOCATION:Aldridge Gardens\, Hoover\, AL\, United States
CATEGORIES:Memorial
ATTACH;FMTTYPE=image/webp:https://bootsoffaith.org/wp-content/uploads/2026/01/BootsofFaithpaverjpg-1.webp
END:VEVENT
BEGIN:VEVENT
DTSTART;TZID=UTC:20241026T130000
DTEND;TZID=UTC:20241026T130000
DTSTAMP:20260423T203844
CREATED:20241026T164508Z
LAST-MODIFIED:20260211T222728Z
UID:2329-1729947600-1729947600@bootsoffaith.org
SUMMARY:King’s Chair Memorial Bench
DESCRIPTION:Thankful for strong swimmers today. Everyone came ready to shed some sweat and tears. One of God’s beautiful creations gained a great bench for rest and reflection…..let us all Be Still & Know.\nKing’s Chair in Alabama’s Oak Mountain State Park was Carson’s favorite spot to watch the amazing sunrise. Thank you to everybody who helped make this happen.\n      \n  \n 
URL:https://bootsoffaith.org/event/kings-chair-memorial-bench/
LOCATION:Oak Mountain State Park\, Birmingham\, AL\, United States
CATEGORIES:Memorial
ATTACH;FMTTYPE=image/jpeg:https://bootsoffaith.org/wp-content/uploads/2024/12/smallkingsbench.jpg
END:VEVENT
END:VCALENDAR