BEGIN:VCALENDAR
VERSION:2.0
PRODID:-//Boots of Faith - ECPv6.15.20//NONSGML v1.0//EN
CALSCALE:GREGORIAN
METHOD:PUBLISH
X-ORIGINAL-URL:https://bootsoffaith.org
X-WR-CALDESC:Events for Boots of Faith
REFRESH-INTERVAL;VALUE=DURATION:PT1H
X-Robots-Tag:noindex
X-PUBLISHED-TTL:PT1H
BEGIN:VTIMEZONE
TZID:UTC
BEGIN:STANDARD
TZOFFSETFROM:+0000
TZOFFSETTO:+0000
TZNAME:UTC
DTSTART:20240101T000000
END:STANDARD
END:VTIMEZONE
BEGIN:VEVENT
DTSTART;TZID=UTC:20250527T190000
DTEND;TZID=UTC:20250527T190000
DTSTAMP:20260423T190311
CREATED:20260117T044316Z
LAST-MODIFIED:20260117T144738Z
UID:2678-1748372400-1748372400@bootsoffaith.org
SUMMARY:Boots of Faith SCHOLARSHIP 2025
DESCRIPTION:It is an honor to congratulate Jessica Browder\, the 2025 Boots of Faith scholarship recipient.\n\nJessica has demonstrated resilience\, leadership\, and unwavering faith throughout her high school career.\nIs a selfless individual who always makes sure everyone around her is doing well\, no matter what is occupying her mind.\nWhat sets Jessica apart most is her heart. She has a true desire to make others feel included\, and distinguishes herself through a desire to learn and grow\, an ability to act as a humble leader among peers\, and her commitment to making sure others are seen and valued.\nShe goes about her work with a humility and quiet dignity that is admired and is becoming all too rare in the world around us.\nHas reaffirmed her love for animals and the desire to become a veterinarian while working at a local vet. Being around animals helps Jessica to recenter herself.\nHas had to overcome obstacles in her personal life and has handled them with more maturity and persistence than most adults. Instead of allowing these challenges to define her\, Jessica has used them to fuel her personal growth.\nShe relies on faith as a source of strength\, finding peace and purpose in difficult moments. Faith has played a large part in her ability to persevere\, offering resilience to face adversity with grace.\nJessica is grounded in her values.\n\nBoots Of Faith is confident this young lady will continue to work hard with a humble heart but have a boldness and grit to achieve great things at Mississippi State. Her passion for animals\, her involvement in church and her strong faith-based soul truly exemplifies the values of this scholarship.
URL:https://bootsoffaith.org/event/boots-of-faith-scholarship-2025/
LOCATION:Spain Park High School
CATEGORIES:Scholarship
ATTACH;FMTTYPE=image/webp:https://bootsoffaith.org/wp-content/uploads/2026/01/IMG_4407-1.webp
END:VEVENT
END:VCALENDAR